BEGIN:VCALENDAR
VERSION:2.0
PRODID:-//Varianta.org - ECPv6.15.20//NONSGML v1.0//EN
CALSCALE:GREGORIAN
METHOD:PUBLISH
X-WR-CALNAME:Varianta.org
X-ORIGINAL-URL:https://www.varianta.org
X-WR-CALDESC:Veranstaltungen für Varianta.org
REFRESH-INTERVAL;VALUE=DURATION:PT1H
X-Robots-Tag:noindex
X-PUBLISHED-TTL:PT1H
BEGIN:VTIMEZONE
TZID:Europe/Berlin
BEGIN:DAYLIGHT
TZOFFSETFROM:+0100
TZOFFSETTO:+0200
TZNAME:CEST
DTSTART:20240331T010000
END:DAYLIGHT
BEGIN:STANDARD
TZOFFSETFROM:+0200
TZOFFSETTO:+0100
TZNAME:CET
DTSTART:20241027T010000
END:STANDARD
BEGIN:DAYLIGHT
TZOFFSETFROM:+0100
TZOFFSETTO:+0200
TZNAME:CEST
DTSTART:20250330T010000
END:DAYLIGHT
BEGIN:STANDARD
TZOFFSETFROM:+0200
TZOFFSETTO:+0100
TZNAME:CET
DTSTART:20251026T010000
END:STANDARD
BEGIN:DAYLIGHT
TZOFFSETFROM:+0100
TZOFFSETTO:+0200
TZNAME:CEST
DTSTART:20260329T010000
END:DAYLIGHT
BEGIN:STANDARD
TZOFFSETFROM:+0200
TZOFFSETTO:+0100
TZNAME:CET
DTSTART:20261025T010000
END:STANDARD
END:VTIMEZONE
BEGIN:VEVENT
DTSTART;VALUE=DATE:20250531
DTEND;VALUE=DATE:20250602
DTSTAMP:20260421T112149
CREATED:20241226T061425Z
LAST-MODIFIED:20241226T061425Z
UID:3849-1748649600-1748822399@www.varianta.org
SUMMARY:Berlini Cup\, Tegeler See
DESCRIPTION:Faktor 1\,20
URL:https://www.varianta.org/event/berlini-cup-tegeler-see/
LOCATION:Tegeler See-SCF\, Bernauer Str. 152a\, Berlin\, Berlin\, 13507\, Deutschland
CATEGORIES:Regatten
END:VEVENT
BEGIN:VEVENT
DTSTART;VALUE=DATE:20250629
DTEND;VALUE=DATE:20250630
DTSTAMP:20260421T112149
CREATED:20241226T061547Z
LAST-MODIFIED:20241226T071020Z
UID:3851-1751155200-1751241599@www.varianta.org
SUMMARY:Varianta-Treffen\, Baldeneysee
DESCRIPTION:VARIANTA Treffen bei der CLubregatta des ETUF\, 15:00. Volker Seitz begrüßt Euch herzlich an den ETUF -Stegen. Auch diese Wettfahrt gilt fürdie Rangliste- Unabhängig von der Wettfahrt treffen wir uns zum Klönen am Bootsschuppen. Kein Meldegeld\, aber Spende für Essen und Trinken erwünscht. Meldung erforderlich (beim Flottenobmann Volker Seitz).\nFaktor 1\,00
URL:https://www.varianta.org/event/varianta-treffen-baldeneysee/
LOCATION:Baldeneysee-ETUF\, Freiherr-vom-Stein-Straße 204a\, Essen\, 45133\, Deutschland
CATEGORIES:Regatten
ORGANIZER;CN="ETUV e.V.":MAILTO:segeln@etuf.de
END:VEVENT
END:VCALENDAR