BEGIN:VCALENDAR
VERSION:2.0
PRODID:-//Varianta.org - ECPv6.15.20//NONSGML v1.0//EN
CALSCALE:GREGORIAN
METHOD:PUBLISH
X-ORIGINAL-URL:https://www.varianta.org
X-WR-CALDESC:Veranstaltungen für Varianta.org
REFRESH-INTERVAL;VALUE=DURATION:PT1H
X-Robots-Tag:noindex
X-PUBLISHED-TTL:PT1H
BEGIN:VTIMEZONE
TZID:Europe/Berlin
BEGIN:DAYLIGHT
TZOFFSETFROM:+0100
TZOFFSETTO:+0200
TZNAME:CEST
DTSTART:20240331T010000
END:DAYLIGHT
BEGIN:STANDARD
TZOFFSETFROM:+0200
TZOFFSETTO:+0100
TZNAME:CET
DTSTART:20241027T010000
END:STANDARD
BEGIN:DAYLIGHT
TZOFFSETFROM:+0100
TZOFFSETTO:+0200
TZNAME:CEST
DTSTART:20250330T010000
END:DAYLIGHT
BEGIN:STANDARD
TZOFFSETFROM:+0200
TZOFFSETTO:+0100
TZNAME:CET
DTSTART:20251026T010000
END:STANDARD
BEGIN:DAYLIGHT
TZOFFSETFROM:+0100
TZOFFSETTO:+0200
TZNAME:CEST
DTSTART:20260329T010000
END:DAYLIGHT
BEGIN:STANDARD
TZOFFSETFROM:+0200
TZOFFSETTO:+0100
TZNAME:CET
DTSTART:20261025T010000
END:STANDARD
END:VTIMEZONE
BEGIN:VEVENT
DTSTART;VALUE=DATE:20250501
DTEND;VALUE=DATE:20250503
DTSTAMP:20260419T141749
CREATED:20241226T055748Z
LAST-MODIFIED:20250129T085237Z
UID:3835-1746057600-1746230399@www.varianta.org
SUMMARY:Varianta Frühjahrs Cup 2025\, Sorpesee
DESCRIPTION:https://www.manage2sail.com/de-DE/event/33afb475-d596-4419-9e35-f044a779095a \nFaktor 1\,20
URL:https://www.varianta.org/event/himmelfahrtregatta-sorpesee/
LOCATION:Sorpesee-YCS\, Zum Sorpedamm 8\, Sundern Langscheid\, Nordrhein-Westfalen\, 59846\, Deutschland
CATEGORIES:Regatten
END:VEVENT
BEGIN:VEVENT
DTSTART;VALUE=DATE:20250503
DTEND;VALUE=DATE:20250505
DTSTAMP:20260419T141749
CREATED:20241226T055954Z
LAST-MODIFIED:20250129T085533Z
UID:3837-1746230400-1746403199@www.varianta.org
SUMMARY:Tegeler Kanne\, Tegeler See
DESCRIPTION:https://www.manage2sail.com/de-DE/event/c81920e7-2ab5-40c3-b342-44557150f2f5 \nFaktor 1\,20
URL:https://www.varianta.org/event/tegeler-kanne-tegeler-see/
LOCATION:Tegeler See-SVT\, An der Malche\, Berlin\, Berlin\, 13508\, Deutschland
CATEGORIES:Regatten
END:VEVENT
BEGIN:VEVENT
DTSTART;TZID=Europe/Berlin:20250507T170000
DTEND;TZID=Europe/Berlin:20250507T190000
DTSTAMP:20260419T141749
CREATED:20241226T071736Z
LAST-MODIFIED:20241226T071736Z
UID:3877-1746637200-1746644400@www.varianta.org
SUMMARY:Regattakurs\, ETUF
DESCRIPTION:Regattakurs am Mittwoch 07.05.2025 und 14.05.2025\, segelbereit jeweils um 17:15 (mit oder ohne Boot). Referenten: Christoph Zander und/oder Volker Seitz (ETUF Essen). Teilnahmegebühr 20 EUR (für Mitglieder der KV 10 EUR). Vorbereitung auf die Teilnahme an den Mittwochsregatten und/oder anderen Regatten. Diese Veranstaltung richtet sich nicht ausschließlich (aber ganz besonders) an Variantaseglerinnen und Variantasegler. Anmeldung beim Flottenobmann Volker Seitz erforderlich.
URL:https://www.varianta.org/event/regattakurs-etuf/
LOCATION:Baldeneysee-ETUF\, Freiherr-vom-Stein-Straße 204a\, Essen\, 45133\, Deutschland
CATEGORIES:Fahrtensegeln,Flotten
ORGANIZER;CN="ETUV e.V.":MAILTO:segeln@etuf.de
END:VEVENT
BEGIN:VEVENT
DTSTART;VALUE=DATE:20250510
DTEND;VALUE=DATE:20250512
DTSTAMP:20260419T141749
CREATED:20241226T060308Z
LAST-MODIFIED:20241226T060308Z
UID:3839-1746835200-1747007999@www.varianta.org
SUMMARY:Möhnepokal\, Möhnesee
DESCRIPTION:Faktor 1\,20
URL:https://www.varianta.org/event/moehnepokal-moehnesee/
LOCATION:Möhnesee/Wameler Becken-YCWM\, Forststraße 2\, Möhnesee\, Nordrhein-Westfalen\, 59520\, Deutschland
CATEGORIES:Regatten
END:VEVENT
BEGIN:VEVENT
DTSTART;TZID=Europe/Berlin:20250514T171500
DTEND;TZID=Europe/Berlin:20250514T190000
DTSTAMP:20260419T141749
CREATED:20241226T071848Z
LAST-MODIFIED:20241226T071855Z
UID:3879-1747242900-1747249200@www.varianta.org
SUMMARY:Regattakurs\, ETUF
DESCRIPTION:Regattakurs am Mittwoch 07.05.2025 und 14.05.2025\, segelbereit jeweils um 17:15 (mit oder ohne Boot). Referenten: Christoph Zander und/oder Volker Seitz (ETUF Essen). Teilnahmegebühr 20 EUR (für Mitglieder der KV 10 EUR). Vorbereitung auf die Teilnahme an den Mittwochsregatten und/oder anderen Regatten. Diese Veranstaltung richtet sich nicht ausschließlich (aber ganz besonders) an Variantaseglerinnen und Variantasegler. Anmeldung beim Flottenobmann Volker Seitz erforderlich.
URL:https://www.varianta.org/event/regattakursetuf/
LOCATION:Baldeneysee-ETUF\, Freiherr-vom-Stein-Straße 204a\, Essen\, 45133\, Deutschland
ORGANIZER;CN="ETUV e.V.":MAILTO:segeln@etuf.de
END:VEVENT
BEGIN:VEVENT
DTSTART;VALUE=DATE:20250517
DTEND;VALUE=DATE:20250519
DTSTAMP:20260419T141749
CREATED:20241226T060549Z
LAST-MODIFIED:20250423T194243Z
UID:3841-1747440000-1747612799@www.varianta.org
SUMMARY:Badische Landesmeisterschaft\, Rohrköpflesee
DESCRIPTION:Fakor 1\,30\nWettfahrtleiterin: Andrea Weingärtner\nObmann Protestkomitee: Dr. Harald Wozniewski\n\nhttps://www.manage2sail.com/de-DE/event/36e9c314-b970-42c6-a0cd-678ee796a90c#!/
URL:https://www.varianta.org/event/badische-landesmeisterschaft-rohrkoepflesee/
LOCATION:Linkenheim Rohrköpflesee-SCLH\, Im Gründel 5\, Linkenheim-Hochstetten\, Baden-Württemberg\, 76351\, Deutschland
CATEGORIES:Regatten
END:VEVENT
BEGIN:VEVENT
DTSTART;VALUE=DATE:20250521
DTEND;VALUE=DATE:20250522
DTSTAMP:20260419T141749
CREATED:20241226T060741Z
LAST-MODIFIED:20241226T071242Z
UID:3843-1747785600-1747871999@www.varianta.org
SUMMARY:Mittwochsregatta (1 WF)\, Baldeneysee
DESCRIPTION:18:00 Uhr Start\, keine Meldegebühr. Richtig gehört: wenn wir die Meldezahlen erreichen\, dann gilt auch diese Wettfahrt für die Rangliste. Auswärtige Segler sind natürlich auch herzlich willkommen.  Meldung erforderlich (bitte melden bei Volker Seitz). Faktor 1\,0
URL:https://www.varianta.org/event/mittwochsregatta-1-wf-baldeneysee/
LOCATION:Nordrhein-Westfalen
CATEGORIES:Regatten
END:VEVENT
BEGIN:VEVENT
DTSTART;VALUE=DATE:20250524
DTEND;VALUE=DATE:20250526
DTSTAMP:20260419T141749
CREATED:20241226T061044Z
LAST-MODIFIED:20241226T061044Z
UID:3845-1748044800-1748217599@www.varianta.org
SUMMARY:Flottenmeisterschaft Möhnesee\, Möhnesee
DESCRIPTION:Faktor 1\,20
URL:https://www.varianta.org/event/flottenmeisterschaft-moehnesee-moehnesee/
LOCATION:Möhnesee/Wameler Becken-S77M\, Bahnhofstraße 22\, Möhnesee\, Nordrhein-Westfalen\, 59519\, Deutschland
CATEGORIES:Regatten
END:VEVENT
BEGIN:VEVENT
DTSTART;VALUE=DATE:20250524
DTEND;VALUE=DATE:20250526
DTSTAMP:20260419T141749
CREATED:20241226T061229Z
LAST-MODIFIED:20250423T194358Z
UID:3847-1748044800-1748217599@www.varianta.org
SUMMARY:Süd-Cup (ehem. Attacke)\, Rohrköpflesee
DESCRIPTION:Faktor 1\,20\nWettfahrtleiter: Jürgen Wiesel\nObmann Protestkomitee: Dr. Harald Wozniewski\n\nhttps://www.manage2sail.com/de-DE/event/2b11add9-22cf-4a0d-9e33-1dc75e5f5aab#!/
URL:https://www.varianta.org/event/sued-cup-ehem-attacke-rohrkoepflesee/
LOCATION:Linkenheim Rohrköpflesee-SCLH\, Im Gründel 5\, Linkenheim-Hochstetten\, Baden-Württemberg\, 76351\, Deutschland
CATEGORIES:Regatten
END:VEVENT
BEGIN:VEVENT
DTSTART;TZID=Europe/Berlin:20250530T190000
DTEND;TZID=Europe/Berlin:20250530T210000
DTSTAMP:20260419T141749
CREATED:20250505T185412Z
LAST-MODIFIED:20250505T185412Z
UID:4107-1748631600-1748638800@www.varianta.org
SUMMARY:Flottensitzung Berlin
DESCRIPTION:Liebe Varianta-Seglerinnen und Segler\,\n\nwir möchten alle Mitglieder der Varianta Klassenvereinigung zur Flottensitzung der Varianta-Klassenvereinigung am Freitag den 30. Mai 2025 um 19:00h in das Klubhaus des Segel-Klub Nixe einladen. \nEs sind auch alle VA-Interessierten herzlich gerne eingeladen mitzumachen! Bitte teilt die Information weiter. \nThemen sind unter anderem die Jahresplanung 2025 und 2026\, sowie ein Wechsel der Flottenführung. \nBitte meldet zeitnah für den Berlini-Cup und nehmt an der Sitzung teil. \nMit sportlichen Grüßen \nChristoph         und               Thomas \nfür die Varianta-Flotte Berlin
URL:https://www.varianta.org/event/flottensitzung-berlin-2/
LOCATION:Tegeler See-SCN\, Elkartweg 28\, Berlin\, Berlin\, 13587\, Deutschland
CATEGORIES:Flotten
END:VEVENT
BEGIN:VEVENT
DTSTART;VALUE=DATE:20250531
DTEND;VALUE=DATE:20250602
DTSTAMP:20260419T141749
CREATED:20241226T061425Z
LAST-MODIFIED:20241226T061425Z
UID:3849-1748649600-1748822399@www.varianta.org
SUMMARY:Berlini Cup\, Tegeler See
DESCRIPTION:Faktor 1\,20
URL:https://www.varianta.org/event/berlini-cup-tegeler-see/
LOCATION:Tegeler See-SCF\, Bernauer Str. 152a\, Berlin\, Berlin\, 13507\, Deutschland
CATEGORIES:Regatten
END:VEVENT
END:VCALENDAR