BEGIN:VCALENDAR
VERSION:2.0
PRODID:-//Varianta.org - ECPv6.15.20//NONSGML v1.0//EN
CALSCALE:GREGORIAN
METHOD:PUBLISH
X-ORIGINAL-URL:https://www.varianta.org
X-WR-CALDESC:Veranstaltungen für Varianta.org
REFRESH-INTERVAL;VALUE=DURATION:PT1H
X-Robots-Tag:noindex
X-PUBLISHED-TTL:PT1H
BEGIN:VTIMEZONE
TZID:Europe/Berlin
BEGIN:DAYLIGHT
TZOFFSETFROM:+0100
TZOFFSETTO:+0200
TZNAME:CEST
DTSTART:20240331T010000
END:DAYLIGHT
BEGIN:STANDARD
TZOFFSETFROM:+0200
TZOFFSETTO:+0100
TZNAME:CET
DTSTART:20241027T010000
END:STANDARD
BEGIN:DAYLIGHT
TZOFFSETFROM:+0100
TZOFFSETTO:+0200
TZNAME:CEST
DTSTART:20250330T010000
END:DAYLIGHT
BEGIN:STANDARD
TZOFFSETFROM:+0200
TZOFFSETTO:+0100
TZNAME:CET
DTSTART:20251026T010000
END:STANDARD
BEGIN:DAYLIGHT
TZOFFSETFROM:+0100
TZOFFSETTO:+0200
TZNAME:CEST
DTSTART:20260329T010000
END:DAYLIGHT
BEGIN:STANDARD
TZOFFSETFROM:+0200
TZOFFSETTO:+0100
TZNAME:CET
DTSTART:20261025T010000
END:STANDARD
END:VTIMEZONE
BEGIN:VEVENT
DTSTART;VALUE=DATE:20250405
DTEND;VALUE=DATE:20250407
DTSTAMP:20260419T155600
CREATED:20241226T055610Z
LAST-MODIFIED:20241226T055610Z
UID:3833-1743811200-1743983999@www.varianta.org
SUMMARY:Klaus-Harte-Preis\, Tegeler See
DESCRIPTION:Faktor 1\,20
URL:https://www.varianta.org/event/klaus-harte-preis-tegeler-see/
LOCATION:Tegeler See-SCO\, Bernauer Str. 152 c\, Berlin\, Berlin\, 13507\, Deutschland
CATEGORIES:Regatten
END:VEVENT
BEGIN:VEVENT
DTSTART;VALUE=DATE:20250412
DTEND;VALUE=DATE:20250414
DTSTAMP:20260419T155600
CREATED:20241226T055243Z
LAST-MODIFIED:20241226T072059Z
UID:3829-1744416000-1744588799@www.varianta.org
SUMMARY:Frühjahrswettfahrten\, Baldeneysee
DESCRIPTION:DER YCRE als Veranstalter der ersten Varianta-Regatta im Westen wird sich auch 2025 ins Zeug legen. Unter anderem zwei Krananlagen\, eine tolle Gastronomie\, viele Segler (auch in anderen Klassen)\, DJ am Abend\, …\nFaktor 1\,40
URL:https://www.varianta.org/event/klaus-harte-preis-4/
LOCATION:Baldeneysee-YCRE\, Lanfermannfähre 118a\, Essen\, Nordrhein-Westfalen\, 45259\, Deutschland
CATEGORIES:Regatten
END:VEVENT
END:VCALENDAR