BEGIN:VCALENDAR
VERSION:2.0
PRODID:-//Varianta.org - ECPv6.15.20//NONSGML v1.0//EN
CALSCALE:GREGORIAN
METHOD:PUBLISH
X-ORIGINAL-URL:https://www.varianta.org
X-WR-CALDESC:Veranstaltungen für Varianta.org
REFRESH-INTERVAL;VALUE=DURATION:PT1H
X-Robots-Tag:noindex
X-PUBLISHED-TTL:PT1H
BEGIN:VTIMEZONE
TZID:Europe/Berlin
BEGIN:DAYLIGHT
TZOFFSETFROM:+0100
TZOFFSETTO:+0200
TZNAME:CEST
DTSTART:20230326T010000
END:DAYLIGHT
BEGIN:STANDARD
TZOFFSETFROM:+0200
TZOFFSETTO:+0100
TZNAME:CET
DTSTART:20231029T010000
END:STANDARD
BEGIN:DAYLIGHT
TZOFFSETFROM:+0100
TZOFFSETTO:+0200
TZNAME:CEST
DTSTART:20240331T010000
END:DAYLIGHT
BEGIN:STANDARD
TZOFFSETFROM:+0200
TZOFFSETTO:+0100
TZNAME:CET
DTSTART:20241027T010000
END:STANDARD
BEGIN:DAYLIGHT
TZOFFSETFROM:+0100
TZOFFSETTO:+0200
TZNAME:CEST
DTSTART:20250330T010000
END:DAYLIGHT
BEGIN:STANDARD
TZOFFSETFROM:+0200
TZOFFSETTO:+0100
TZNAME:CET
DTSTART:20251026T010000
END:STANDARD
END:VTIMEZONE
BEGIN:VEVENT
DTSTART;TZID=Europe/Berlin:20241103T180000
DTEND;TZID=Europe/Berlin:20241103T220000
DTSTAMP:20260420T004604
CREATED:20231209T141617Z
LAST-MODIFIED:20231219T185946Z
UID:3261-1730656800-1730671200@www.varianta.org
SUMMARY:Virtuelles Fahrtenseglertreffen zum Saisonende
DESCRIPTION:Virtuelles Fahrtenseglertreffen \nDer Link zur Videokonferenz wird hier veröffentlicht.
URL:https://www.varianta.org/event/virtuelles-fahrtenseglertreffen-zum-saisonende/
LOCATION:Nordrhein-Westfalen
CATEGORIES:Fahrtensegeln
END:VEVENT
BEGIN:VEVENT
DTSTART;TZID=Europe/Berlin:20241116T140000
DTEND;TZID=Europe/Berlin:20241116T180000
DTSTAMP:20260420T004604
CREATED:20241007T174339Z
LAST-MODIFIED:20241103T193704Z
UID:3792-1731765600-1731780000@www.varianta.org
SUMMARY:Mitgliederversammlung Varianta Klassenvereinigung
DESCRIPTION:Mitgliederversammlung VARIANTA-Klassenvereinigung e.V. \nTagungsort:  \nSegel-Club Sorpesee Iserlohn e.V. (SCSI) Am Sorpesee 187\, 59846 Sundern (Sauerland) \nJHV 24\, Achtung: Änderung Tagungsort\n“Seeoase am Sorpesee”\nAm Sorpesee 181\n59846 Sundern (Sauerland) \nDatum:                 Samstag\, 16. November 2024 um 14.00 Uhr \nIch freue mich auf euer zahlreiches Erscheinen und würde es sehr begrüßen\, wenn außer den derzeit aktiven Seglern auch die früher aktiven Segler sowie Freunde und Gönner unserer Klasse die Veranstaltung zur Kontaktpflege nutzen würden.  \nEure Teilnahmeanmeldungen sendet bitte bis spätestens bis 1. November 2024 per E-Mail an info@varianta.org
URL:https://www.varianta.org/event/mitgliederversammlung-varianta-klassenvereinigung/
LOCATION:Sorpesee-SCSI\, Am Sorpesee 187\, Sundern\, Nordrhein-Westfalen\, 59846
CATEGORIES:Fahrtensegeln,Flotten,Regatten
END:VEVENT
END:VCALENDAR