BEGIN:VCALENDAR
VERSION:2.0
PRODID:-//Varianta.org - ECPv6.15.20//NONSGML v1.0//EN
CALSCALE:GREGORIAN
METHOD:PUBLISH
X-WR-CALNAME:Varianta.org
X-ORIGINAL-URL:https://www.varianta.org
X-WR-CALDESC:Veranstaltungen für Varianta.org
REFRESH-INTERVAL;VALUE=DURATION:PT1H
X-Robots-Tag:noindex
X-PUBLISHED-TTL:PT1H
BEGIN:VTIMEZONE
TZID:Europe/Berlin
BEGIN:DAYLIGHT
TZOFFSETFROM:+0100
TZOFFSETTO:+0200
TZNAME:CEST
DTSTART:20230326T010000
END:DAYLIGHT
BEGIN:STANDARD
TZOFFSETFROM:+0200
TZOFFSETTO:+0100
TZNAME:CET
DTSTART:20231029T010000
END:STANDARD
BEGIN:DAYLIGHT
TZOFFSETFROM:+0100
TZOFFSETTO:+0200
TZNAME:CEST
DTSTART:20240331T010000
END:DAYLIGHT
BEGIN:STANDARD
TZOFFSETFROM:+0200
TZOFFSETTO:+0100
TZNAME:CET
DTSTART:20241027T010000
END:STANDARD
BEGIN:DAYLIGHT
TZOFFSETFROM:+0100
TZOFFSETTO:+0200
TZNAME:CEST
DTSTART:20250330T010000
END:DAYLIGHT
BEGIN:STANDARD
TZOFFSETFROM:+0200
TZOFFSETTO:+0100
TZNAME:CET
DTSTART:20251026T010000
END:STANDARD
END:VTIMEZONE
BEGIN:VEVENT
DTSTART;VALUE=DATE:20240831
DTEND;VALUE=DATE:20240902
DTSTAMP:20260420T041059
CREATED:20231204T185100Z
LAST-MODIFIED:20231204T190152Z
UID:3228-1725062400-1725235199@www.varianta.org
SUMMARY:Kurt-Weck-Preis
DESCRIPTION:Faktor 1\,20
URL:https://www.varianta.org/event/kurt-weck-preis-2/
LOCATION:Tegeler See-TSC\, Schwarzer Weg 27\, Berlin\, Berlin\, 13505\, Deutschland
CATEGORIES:Regatten
END:VEVENT
BEGIN:VEVENT
DTSTART;VALUE=DATE:20240831
DTEND;VALUE=DATE:20240902
DTSTAMP:20260420T041059
CREATED:20231204T185153Z
LAST-MODIFIED:20231204T185153Z
UID:3230-1725062400-1725235199@www.varianta.org
SUMMARY:Essener Segelwoche
DESCRIPTION:Faktor 1\,20
URL:https://www.varianta.org/event/essener-segelwoche-3/
LOCATION:Baldeneysee-ETUF\, Freiherr-vom-Stein-Straße 204a\, Essen\, 45133\, Deutschland
CATEGORIES:Regatten
ORGANIZER;CN="ETUV e.V.":MAILTO:segeln@etuf.de
END:VEVENT
BEGIN:VEVENT
DTSTART;VALUE=DATE:20240902
DTEND;VALUE=DATE:20240907
DTSTAMP:20260420T041059
CREATED:20231204T185239Z
LAST-MODIFIED:20231204T190136Z
UID:3232-1725235200-1725667199@www.varianta.org
SUMMARY:Int. Deutsche Meisterschaft
DESCRIPTION:Faktor 1\,60
URL:https://www.varianta.org/event/int-deutsche-meisterschaft-3/
LOCATION:Baldeneysee-ETUF\, Freiherr-vom-Stein-Straße 204a\, Essen\, 45133\, Deutschland
CATEGORIES:Regatten
ORGANIZER;CN="ETUV e.V.":MAILTO:segeln@etuf.de
END:VEVENT
BEGIN:VEVENT
DTSTART;VALUE=DATE:20240914
DTEND;VALUE=DATE:20240916
DTSTAMP:20260420T041059
CREATED:20231204T185340Z
LAST-MODIFIED:20231204T185340Z
UID:3234-1726272000-1726444799@www.varianta.org
SUMMARY:Flottenmeisterschaft SüdWest
DESCRIPTION:Faktor 1\,40
URL:https://www.varianta.org/event/flottenmeisterschaft-suedwest/
LOCATION:Reffenthaler Altrhein-SVM\, Franz-Kirrmeier-Straße\, Speyer\, Rheinland-Pfalz\, 67346\, Deutschland
CATEGORIES:Regatten
END:VEVENT
BEGIN:VEVENT
DTSTART;VALUE=DATE:20240921
DTEND;VALUE=DATE:20240923
DTSTAMP:20260420T041059
CREATED:20231204T185503Z
LAST-MODIFIED:20240407T165824Z
UID:3236-1726876800-1727049599@www.varianta.org
SUMMARY:Leuchtturmregatta
DESCRIPTION:Faktor 1\,20 \nhttps://www.manage2sail.com/de-DE/event/Luchtturm24#!/
URL:https://www.varianta.org/event/leuchtturmregatta-3/
LOCATION:Linkenheim Rohrköpflesee-SCLH\, Im Gründel 5\, Linkenheim-Hochstetten\, Baden-Württemberg\, 76351\, Deutschland
CATEGORIES:Regatten
END:VEVENT
BEGIN:VEVENT
DTSTART;VALUE=DATE:20240928
DTEND;VALUE=DATE:20240930
DTSTAMP:20260420T041059
CREATED:20231204T185614Z
LAST-MODIFIED:20231204T185614Z
UID:3238-1727481600-1727654399@www.varianta.org
SUMMARY:Berliner Meisterschaft
DESCRIPTION:Faktor 1\,40
URL:https://www.varianta.org/event/berliner-meisterschaft-3/
LOCATION:Tegeler See-SKN\, Bernauer Str. 152b\, Berlin\, Berlin\, 13507\, Deutschland
CATEGORIES:Regatten
END:VEVENT
END:VCALENDAR