BEGIN:VCALENDAR
VERSION:2.0
PRODID:-//Varianta.org - ECPv6.15.20//NONSGML v1.0//EN
CALSCALE:GREGORIAN
METHOD:PUBLISH
X-WR-CALNAME:Varianta.org
X-ORIGINAL-URL:https://www.varianta.org
X-WR-CALDESC:Veranstaltungen für Varianta.org
REFRESH-INTERVAL;VALUE=DURATION:PT1H
X-Robots-Tag:noindex
X-PUBLISHED-TTL:PT1H
BEGIN:VTIMEZONE
TZID:Europe/Berlin
BEGIN:DAYLIGHT
TZOFFSETFROM:+0100
TZOFFSETTO:+0200
TZNAME:CEST
DTSTART:20230326T010000
END:DAYLIGHT
BEGIN:STANDARD
TZOFFSETFROM:+0200
TZOFFSETTO:+0100
TZNAME:CET
DTSTART:20231029T010000
END:STANDARD
BEGIN:DAYLIGHT
TZOFFSETFROM:+0100
TZOFFSETTO:+0200
TZNAME:CEST
DTSTART:20240331T010000
END:DAYLIGHT
BEGIN:STANDARD
TZOFFSETFROM:+0200
TZOFFSETTO:+0100
TZNAME:CET
DTSTART:20241027T010000
END:STANDARD
BEGIN:DAYLIGHT
TZOFFSETFROM:+0100
TZOFFSETTO:+0200
TZNAME:CEST
DTSTART:20250330T010000
END:DAYLIGHT
BEGIN:STANDARD
TZOFFSETFROM:+0200
TZOFFSETTO:+0100
TZNAME:CET
DTSTART:20251026T010000
END:STANDARD
END:VTIMEZONE
BEGIN:VEVENT
DTSTART;VALUE=DATE:20240622
DTEND;VALUE=DATE:20240624
DTSTAMP:20260420T094234
CREATED:20231204T184605Z
LAST-MODIFIED:20231204T184605Z
UID:3222-1719014400-1719187199@www.varianta.org
SUMMARY:Flottenmeisterschaft Möhnesee/Landesmeisterschaft NW
DESCRIPTION:Faktor 1\,40
URL:https://www.varianta.org/event/flottenmeisterschaft-moehnesee-landesmeisterschaft-nw-2/
LOCATION:Möhnesee/Wameler Becken-S77M\, Bahnhofstraße 22\, Möhnesee\, Nordrhein-Westfalen\, 59519\, Deutschland
CATEGORIES:Regatten
END:VEVENT
BEGIN:VEVENT
DTSTART;VALUE=DATE:20240629
DTEND;VALUE=DATE:20240701
DTSTAMP:20260420T094234
CREATED:20240605T111217Z
LAST-MODIFIED:20240605T115811Z
UID:3398-1719619200-1719791999@www.varianta.org
SUMMARY:Spinnaker Grundlagentraining in Linkenheim
DESCRIPTION:Das Training findet am Samstag 29. Juni 2024 ab 14:00 Uhr und Sonntag 30. Juni 2024 ab 11:00 Uhr statt. \nZielgruppe sind Regatta-SeglerInnen. Bitte beachtet\, dass aktuell nur Teilnehmer angenommen werden können\, die mit Boot teilnehmen. \nEs entstehen keine Kosten. Eine angemessene Spende an den gastgebenden Verein ist aber willkommen. \nBei Interesse meldet euch bitte bei der Flotte Südwest unter suedwest@varianta.org.
URL:https://www.varianta.org/event/spinnaker-grundlagentraining-in-linkenheim/
LOCATION:Linkenheim Rohrköpflesee-SCLH\, Im Gründel 5\, Linkenheim-Hochstetten\, Baden-Württemberg\, 76351\, Deutschland
END:VEVENT
END:VCALENDAR