BEGIN:VCALENDAR
VERSION:2.0
PRODID:-//Varianta.org - ECPv6.15.20//NONSGML v1.0//EN
CALSCALE:GREGORIAN
METHOD:PUBLISH
X-ORIGINAL-URL:https://www.varianta.org
X-WR-CALDESC:Veranstaltungen für Varianta.org
REFRESH-INTERVAL;VALUE=DURATION:PT1H
X-Robots-Tag:noindex
X-PUBLISHED-TTL:PT1H
BEGIN:VTIMEZONE
TZID:Europe/Berlin
BEGIN:DAYLIGHT
TZOFFSETFROM:+0100
TZOFFSETTO:+0200
TZNAME:CEST
DTSTART:20230326T010000
END:DAYLIGHT
BEGIN:STANDARD
TZOFFSETFROM:+0200
TZOFFSETTO:+0100
TZNAME:CET
DTSTART:20231029T010000
END:STANDARD
BEGIN:DAYLIGHT
TZOFFSETFROM:+0100
TZOFFSETTO:+0200
TZNAME:CEST
DTSTART:20240331T010000
END:DAYLIGHT
BEGIN:STANDARD
TZOFFSETFROM:+0200
TZOFFSETTO:+0100
TZNAME:CET
DTSTART:20241027T010000
END:STANDARD
BEGIN:DAYLIGHT
TZOFFSETFROM:+0100
TZOFFSETTO:+0200
TZNAME:CEST
DTSTART:20250330T010000
END:DAYLIGHT
BEGIN:STANDARD
TZOFFSETFROM:+0200
TZOFFSETTO:+0100
TZNAME:CET
DTSTART:20251026T010000
END:STANDARD
END:VTIMEZONE
BEGIN:VEVENT
DTSTART;VALUE=DATE:20240504
DTEND;VALUE=DATE:20240506
DTSTAMP:20260420T114511
CREATED:20231203T205138Z
LAST-MODIFIED:20240407T165904Z
UID:3202-1714780800-1714953599@www.varianta.org
SUMMARY:Badische Landesmeisterschaft
DESCRIPTION:Faktor 1\,20 \nhttps://www.manage2sail.com/de-DE/event/Badische2024#!/
URL:https://www.varianta.org/event/badische-landesmeisterschaft-4/
LOCATION:Linkenheim Rohrköpflesee-SCLH\, Im Gründel 5\, Linkenheim-Hochstetten\, Baden-Württemberg\, 76351\, Deutschland
CATEGORIES:Regatten
END:VEVENT
BEGIN:VEVENT
DTSTART;VALUE=DATE:20240511
DTEND;VALUE=DATE:20240513
DTSTAMP:20260420T114511
CREATED:20231203T205729Z
LAST-MODIFIED:20240711T185409Z
UID:3204-1715385600-1715558399@www.varianta.org
SUMMARY:Attacke
DESCRIPTION:Faktor 1\,20
URL:https://www.varianta.org/event/attacke-3/
LOCATION:Reffenthaler Altrhein-SVM\, Franz-Kirrmeier-Straße\, Speyer\, Rheinland-Pfalz\, 67346\, Deutschland
CATEGORIES:Regatten
END:VEVENT
BEGIN:VEVENT
DTSTART;VALUE=DATE:20240511
DTEND;VALUE=DATE:20240513
DTSTAMP:20260420T114511
CREATED:20231204T184108Z
LAST-MODIFIED:20231208T160533Z
UID:3216-1715385600-1715558399@www.varianta.org
SUMMARY:Möhnepokal
DESCRIPTION:Faktor 1\,20
URL:https://www.varianta.org/event/moehnepokal-6/
LOCATION:Möhnesee/Wameler Becken-YCWM\, Forststraße 2\, Möhnesee\, Nordrhein-Westfalen\, 59520\, Deutschland
CATEGORIES:Regatten
END:VEVENT
BEGIN:VEVENT
DTSTART;VALUE=DATE:20240518
DTEND;VALUE=DATE:20240528
DTSTAMP:20260420T114511
CREATED:20231204T190804Z
LAST-MODIFIED:20231210T125522Z
UID:3246-1715990400-1716854399@www.varianta.org
SUMMARY:Flottillentörn 2024
DESCRIPTION:Hallo Varianta-Segler\,\ndie Varianta ist nicht nur ein tolles Regattaschiff\, sondern sie ist auch zum Fahrtensegeln bestens geeignet. Noch viel mehr Spaß macht es allerdings mit mehreren Schiffen gemeinsam auf Fahrt in einem Flottillentörn. Auch für Revierneulinge und Anfänger ist das Segeln in der Gruppe eine prima Sache: Ihr profitiert von der beruhigenden Nähe und Erfahrung der Begleitung. Unter anderem deshalb sind natürlich auch „alte Salzbuckel“ sehr willkommen\, mitzumachen: Es ist immer toll\, mit Schiffen des gleichen Typs unterwegs zu sein und die eine oder andere Strecke sportlicher zu segeln. Daher möchten wir in 2024 wieder einen durch die Varianta KV organisierten Flottillentörn durchführen. \nDer Flottillentörn 2024 führt uns durch das niederländische und deutsche Wattenmeer und findet \nvon Samstag\, 18.05.2024\nbis Montag\, 27.05.2024 \nstatt. \nAchtung: Nach einigem hin- und her können wir nur am Montag den 27.05.2024 kranen!\nBitte berücksichtigt das bei Euren Planungen. \nWir starten im Hafen Workum am IJsselmeer. Ziel ist der Hafen Weener an der Ems. Start und Ziel sind verkehrstechnisch gut angebundem (z.B. Bahn in 2h40)\, so dass die Trailer auf diesem One-Way Törn nachgeholt werden können. Wir fahren durch das Wattenmeer. Bei sehr schlechtem Wetter können wir in das friesische Binnenland ausweichen. \nWeitere Infos zur Anmeldung findet ihr im beiliegenden PDF  (Anmeldung:  Flottillentörn A5 )\nFür Fragen wendet Euch jederzeit an den Flottenobmann für das Fahrtensegeln stephan.kaiser@varianta.org \n 
URL:https://www.varianta.org/event/flottillentoern-2024/
LOCATION:Nordrhein-Westfalen
CATEGORIES:Fahrtensegeln
END:VEVENT
BEGIN:VEVENT
DTSTART;VALUE=DATE:20240525
DTEND;VALUE=DATE:20240527
DTSTAMP:20260420T114511
CREATED:20231204T190258Z
LAST-MODIFIED:20231204T190258Z
UID:3218-1716595200-1716767999@www.varianta.org
SUMMARY:Berlini Cup
DESCRIPTION:Faktor 1\,20
URL:https://www.varianta.org/event/berlini-cup-6/
LOCATION:Tegeler See-SCF\, Bernauer Str. 152a\, Berlin\, Berlin\, 13507\, Deutschland
CATEGORIES:Regatten
END:VEVENT
END:VCALENDAR