BEGIN:VCALENDAR
VERSION:2.0
PRODID:-//Varianta.org - ECPv6.15.20//NONSGML v1.0//EN
CALSCALE:GREGORIAN
METHOD:PUBLISH
X-WR-CALNAME:Varianta.org
X-ORIGINAL-URL:https://www.varianta.org
X-WR-CALDESC:Veranstaltungen für Varianta.org
REFRESH-INTERVAL;VALUE=DURATION:PT1H
X-Robots-Tag:noindex
X-PUBLISHED-TTL:PT1H
BEGIN:VTIMEZONE
TZID:Europe/Berlin
BEGIN:DAYLIGHT
TZOFFSETFROM:+0100
TZOFFSETTO:+0200
TZNAME:CEST
DTSTART:20230326T010000
END:DAYLIGHT
BEGIN:STANDARD
TZOFFSETFROM:+0200
TZOFFSETTO:+0100
TZNAME:CET
DTSTART:20231029T010000
END:STANDARD
BEGIN:DAYLIGHT
TZOFFSETFROM:+0100
TZOFFSETTO:+0200
TZNAME:CEST
DTSTART:20240331T010000
END:DAYLIGHT
BEGIN:STANDARD
TZOFFSETFROM:+0200
TZOFFSETTO:+0100
TZNAME:CET
DTSTART:20241027T010000
END:STANDARD
BEGIN:DAYLIGHT
TZOFFSETFROM:+0100
TZOFFSETTO:+0200
TZNAME:CEST
DTSTART:20250330T010000
END:DAYLIGHT
BEGIN:STANDARD
TZOFFSETFROM:+0200
TZOFFSETTO:+0100
TZNAME:CET
DTSTART:20251026T010000
END:STANDARD
END:VTIMEZONE
BEGIN:VEVENT
DTSTART;TZID=Europe/Berlin:20240303T140000
DTEND;TZID=Europe/Berlin:20240303T140000
DTSTAMP:20260420T154309
CREATED:20240217T182816Z
LAST-MODIFIED:20240217T182816Z
UID:3332-1709474400-1709474400@www.varianta.org
SUMMARY:Flottenversammlung Süd/West
DESCRIPTION:Hallo liebe Varianta Flotte Süd/West\, Mitglieder\, Freunde und Gäste!\nHiermit laden wir Euch/Dich zu unserer Flottenversammlung 2024 ein. \nDatum: Sonntag 03.03.2024\nUhrzeit: 14:00 Uhr\nOrt: Vereinshaus des SCLH\,  Im Gründel 5\, 76351 Linkenheim \nTagesordnung: \n\nBegrüßung\nNeuwahl Flottenobmann der Flotte Süd/West\n2.1 Übergabe der Dokumente\nRangliste 2023 sowie Preisverteilung\nPlanung IDM und Regatten 2024\nVerschiedenes\n\nSelbstverständlich sind auch Verwandte und Freunde willkommen. \nWir freuen uns auf Eure zahlreiche Teilnahme. \nMit sportlichen Grüßen\nOli
URL:https://www.varianta.org/event/flottenversammlung-sued-west/
LOCATION:Linkenheim Rohrköpflesee-SCLH\, Im Gründel 5\, Linkenheim-Hochstetten\, Baden-Württemberg\, 76351\, Deutschland
CATEGORIES:Flotten
END:VEVENT
BEGIN:VEVENT
DTSTART;TZID=Europe/Berlin:20240317T180000
DTEND;TZID=Europe/Berlin:20240317T230000
DTSTAMP:20260420T154309
CREATED:20231209T141420Z
LAST-MODIFIED:20231209T141519Z
UID:3259-1710698400-1710716400@www.varianta.org
SUMMARY:Virtuelles Fahrtenseglertreffen zum Saisonstart
DESCRIPTION:Virtuelles Fahrtenseglertreffen \nDer Link zur Videokonferenz wird hier veröffentlicht.
URL:https://www.varianta.org/event/virtuelles-fahrtenseglertreffen-zum-saisonstart/
LOCATION:Nordrhein-Westfalen
CATEGORIES:Fahrtensegeln
END:VEVENT
BEGIN:VEVENT
DTSTART;TZID=Europe/Berlin:20240320T190000
DTEND;TZID=Europe/Berlin:20240320T203000
DTSTAMP:20260420T154309
CREATED:20240305T191443Z
LAST-MODIFIED:20240305T191532Z
UID:3349-1710961200-1710966600@www.varianta.org
SUMMARY:Vorbereitungstreffen Flottille 2024
DESCRIPTION:Am 20.03.2024 ab 19:00 Uhr findet unser Vorbereitungstreffen zur Flottille 2024 statt.\n\nDie Einladungen dazu sind bereits an die Teilnehmer versandt.\nSolltet Ihr Interesse an einer Teilnahme haben\, aber noch unentschlossen sein oder Euch aus anderen Gründen noch nicht angemeldet haben\, könnt Ihr gerne ebenfalls an dem Vorbereitungstermin teilnehmen. Sendet mir in diesem Fall bitte eine kurze E-Mail an stephan.kaiser@varianta.org. \n 
URL:https://www.varianta.org/event/vorbereitungstreffen-flottille-2024/
LOCATION:Nordrhein-Westfalen
CATEGORIES:Fahrtensegeln
END:VEVENT
END:VCALENDAR