BEGIN:VCALENDAR
VERSION:2.0
PRODID:-//Varianta.org - ECPv6.15.20//NONSGML v1.0//EN
CALSCALE:GREGORIAN
METHOD:PUBLISH
X-WR-CALNAME:Varianta.org
X-ORIGINAL-URL:https://www.varianta.org
X-WR-CALDESC:Veranstaltungen für Varianta.org
REFRESH-INTERVAL;VALUE=DURATION:PT1H
X-Robots-Tag:noindex
X-PUBLISHED-TTL:PT1H
BEGIN:VTIMEZONE
TZID:Europe/Berlin
BEGIN:DAYLIGHT
TZOFFSETFROM:+0100
TZOFFSETTO:+0200
TZNAME:CEST
DTSTART:20220327T010000
END:DAYLIGHT
BEGIN:STANDARD
TZOFFSETFROM:+0200
TZOFFSETTO:+0100
TZNAME:CET
DTSTART:20221030T010000
END:STANDARD
BEGIN:DAYLIGHT
TZOFFSETFROM:+0100
TZOFFSETTO:+0200
TZNAME:CEST
DTSTART:20230326T010000
END:DAYLIGHT
BEGIN:STANDARD
TZOFFSETFROM:+0200
TZOFFSETTO:+0100
TZNAME:CET
DTSTART:20231029T010000
END:STANDARD
BEGIN:DAYLIGHT
TZOFFSETFROM:+0100
TZOFFSETTO:+0200
TZNAME:CEST
DTSTART:20240331T010000
END:DAYLIGHT
BEGIN:STANDARD
TZOFFSETFROM:+0200
TZOFFSETTO:+0100
TZNAME:CET
DTSTART:20241027T010000
END:STANDARD
END:VTIMEZONE
BEGIN:VEVENT
DTSTART;VALUE=DATE:20230930
DTEND;VALUE=DATE:20231002
DTSTAMP:20260421T003212
CREATED:20230110T202008Z
LAST-MODIFIED:20230111T185547Z
UID:3021-1696032000-1696204799@www.varianta.org
SUMMARY:Kehraus / Landesmeisterschaft NRW
DESCRIPTION:Faktor  1\,40
URL:https://www.varianta.org/event/kehraus-2/
LOCATION:Möhnesee/Wameler Becken-YCWM\, Forststraße 2\, Möhnesee\, Nordrhein-Westfalen\, 59520\, Deutschland
END:VEVENT
BEGIN:VEVENT
DTSTART;VALUE=DATE:20231002
DTEND;VALUE=DATE:20231004
DTSTAMP:20260421T003212
CREATED:20230111T185516Z
LAST-MODIFIED:20230111T185516Z
UID:3025-1696204800-1696377599@www.varianta.org
SUMMARY:Eisarsch
DESCRIPTION:Faktor 1\,20
URL:https://www.varianta.org/event/eisarsch-2/
LOCATION:Möhnesee/Wameler Becken-S77M\, Bahnhofstraße 22\, Möhnesee\, Nordrhein-Westfalen\, 59519\, Deutschland
END:VEVENT
END:VCALENDAR