BEGIN:VCALENDAR
VERSION:2.0
PRODID:-//Varianta.org - ECPv6.15.20//NONSGML v1.0//EN
CALSCALE:GREGORIAN
METHOD:PUBLISH
X-ORIGINAL-URL:https://www.varianta.org
X-WR-CALDESC:Veranstaltungen für Varianta.org
REFRESH-INTERVAL;VALUE=DURATION:PT1H
X-Robots-Tag:noindex
X-PUBLISHED-TTL:PT1H
BEGIN:VTIMEZONE
TZID:Europe/Berlin
BEGIN:DAYLIGHT
TZOFFSETFROM:+0100
TZOFFSETTO:+0200
TZNAME:CEST
DTSTART:20220327T010000
END:DAYLIGHT
BEGIN:STANDARD
TZOFFSETFROM:+0200
TZOFFSETTO:+0100
TZNAME:CET
DTSTART:20221030T010000
END:STANDARD
BEGIN:DAYLIGHT
TZOFFSETFROM:+0100
TZOFFSETTO:+0200
TZNAME:CEST
DTSTART:20230326T010000
END:DAYLIGHT
BEGIN:STANDARD
TZOFFSETFROM:+0200
TZOFFSETTO:+0100
TZNAME:CET
DTSTART:20231029T010000
END:STANDARD
BEGIN:DAYLIGHT
TZOFFSETFROM:+0100
TZOFFSETTO:+0200
TZNAME:CEST
DTSTART:20240331T010000
END:DAYLIGHT
BEGIN:STANDARD
TZOFFSETFROM:+0200
TZOFFSETTO:+0100
TZNAME:CET
DTSTART:20241027T010000
END:STANDARD
END:VTIMEZONE
BEGIN:VEVENT
DTSTART;VALUE=DATE:20230902
DTEND;VALUE=DATE:20230904
DTSTAMP:20260421T024527
CREATED:20230110T201547Z
LAST-MODIFIED:20230110T201547Z
UID:3013-1693612800-1693785599@www.varianta.org
SUMMARY:Essener Segelwoche
DESCRIPTION:Faktor 1\,20
URL:https://www.varianta.org/event/essener-segelwoche-2/
LOCATION:Baldeneysee-ETUF\, Freiherr-vom-Stein-Straße 204a\, Essen\, 45133\, Deutschland
ORGANIZER;CN="ETUV e.V.":MAILTO:segeln@etuf.de
END:VEVENT
BEGIN:VEVENT
DTSTART;VALUE=DATE:20230909
DTEND;VALUE=DATE:20230911
DTSTAMP:20260421T024527
CREATED:20230110T201639Z
LAST-MODIFIED:20230110T201639Z
UID:3015-1694217600-1694390399@www.varianta.org
SUMMARY:Leuchtturmregatta
DESCRIPTION:Faktor 1\,20
URL:https://www.varianta.org/event/leuchtturmregatta-2/
LOCATION:Linkenheim Rohrköpflesee-SCLH\, Im Gründel 5\, Linkenheim-Hochstetten\, Baden-Württemberg\, 76351\, Deutschland
END:VEVENT
BEGIN:VEVENT
DTSTART;VALUE=DATE:20230916
DTEND;VALUE=DATE:20230918
DTSTAMP:20260421T024527
CREATED:20230110T201748Z
LAST-MODIFIED:20230110T201748Z
UID:3017-1694822400-1694995199@www.varianta.org
SUMMARY:Flottenmeisterschaft Süd/West
DESCRIPTION:Faktor 1\,40
URL:https://www.varianta.org/event/flottenmeisterschaft-sued-west/
LOCATION:Reffenthaler Altrhein-SVM\, Franz-Kirrmeier-Straße\, Speyer\, Rheinland-Pfalz\, 67346\, Deutschland
END:VEVENT
BEGIN:VEVENT
DTSTART;VALUE=DATE:20230923
DTEND;VALUE=DATE:20230925
DTSTAMP:20260421T024527
CREATED:20230110T201850Z
LAST-MODIFIED:20230110T201850Z
UID:3019-1695427200-1695599999@www.varianta.org
SUMMARY:Berliner Meisterschaft
DESCRIPTION:Faktor 1\,40
URL:https://www.varianta.org/event/berliner-meisterschaft-2/
LOCATION:Tegeler See-SKN\, Bernauer Str. 152b\, Berlin\, Berlin\, 13507\, Deutschland
END:VEVENT
BEGIN:VEVENT
DTSTART;VALUE=DATE:20230930
DTEND;VALUE=DATE:20231002
DTSTAMP:20260421T024527
CREATED:20230110T202008Z
LAST-MODIFIED:20230111T185547Z
UID:3021-1696032000-1696204799@www.varianta.org
SUMMARY:Kehraus / Landesmeisterschaft NRW
DESCRIPTION:Faktor  1\,40
URL:https://www.varianta.org/event/kehraus-2/
LOCATION:Möhnesee/Wameler Becken-YCWM\, Forststraße 2\, Möhnesee\, Nordrhein-Westfalen\, 59520\, Deutschland
END:VEVENT
END:VCALENDAR