BEGIN:VCALENDAR
VERSION:2.0
PRODID:-//Varianta.org - ECPv6.15.20//NONSGML v1.0//EN
CALSCALE:GREGORIAN
METHOD:PUBLISH
X-WR-CALNAME:Varianta.org
X-ORIGINAL-URL:https://www.varianta.org
X-WR-CALDESC:Veranstaltungen für Varianta.org
REFRESH-INTERVAL;VALUE=DURATION:PT1H
X-Robots-Tag:noindex
X-PUBLISHED-TTL:PT1H
BEGIN:VTIMEZONE
TZID:Europe/Berlin
BEGIN:DAYLIGHT
TZOFFSETFROM:+0100
TZOFFSETTO:+0200
TZNAME:CEST
DTSTART:20220327T010000
END:DAYLIGHT
BEGIN:STANDARD
TZOFFSETFROM:+0200
TZOFFSETTO:+0100
TZNAME:CET
DTSTART:20221030T010000
END:STANDARD
BEGIN:DAYLIGHT
TZOFFSETFROM:+0100
TZOFFSETTO:+0200
TZNAME:CEST
DTSTART:20230326T010000
END:DAYLIGHT
BEGIN:STANDARD
TZOFFSETFROM:+0200
TZOFFSETTO:+0100
TZNAME:CET
DTSTART:20231029T010000
END:STANDARD
BEGIN:DAYLIGHT
TZOFFSETFROM:+0100
TZOFFSETTO:+0200
TZNAME:CEST
DTSTART:20240331T010000
END:DAYLIGHT
BEGIN:STANDARD
TZOFFSETFROM:+0200
TZOFFSETTO:+0100
TZNAME:CET
DTSTART:20241027T010000
END:STANDARD
END:VTIMEZONE
BEGIN:VEVENT
DTSTART;VALUE=DATE:20230708
DTEND;VALUE=DATE:20230710
DTSTAMP:20260421T062838
CREATED:20230111T185808Z
LAST-MODIFIED:20230111T185808Z
UID:3028-1688774400-1688947199@www.varianta.org
SUMMARY:Steinhude Open
DESCRIPTION:Faktor 1\,50
URL:https://www.varianta.org/event/steinhude-open-5/
LOCATION:Steinhuder Meer-SKM\, Uferweg 11\, Neustadt OT Mardorf\, Niedersachsen\, 31535\, Deutschland
END:VEVENT
BEGIN:VEVENT
DTSTART;VALUE=DATE:20230724
DTEND;VALUE=DATE:20230730
DTSTAMP:20260421T062838
CREATED:20230110T200754Z
LAST-MODIFIED:20230110T200754Z
UID:3007-1690156800-1690675199@www.varianta.org
SUMMARY:Int. Deutsche Meisterschaft
DESCRIPTION:Faktor 1\,60
URL:https://www.varianta.org/event/int-deutsche-meisterschaft-2/
LOCATION:Plöner See-PSV\, Eutiner Straße 4-5\, Plön\, Schleswig-Holstein\, 24306\, Deutschland
ORGANIZER;CN="Pl%C3%B6ner Segler-Verein von 1908 e.V.":MAILTO:info@psv1908.de
END:VEVENT
END:VCALENDAR