BEGIN:VCALENDAR
VERSION:2.0
PRODID:-//Varianta.org - ECPv6.15.20//NONSGML v1.0//EN
CALSCALE:GREGORIAN
METHOD:PUBLISH
X-WR-CALNAME:Varianta.org
X-ORIGINAL-URL:https://www.varianta.org
X-WR-CALDESC:Veranstaltungen für Varianta.org
REFRESH-INTERVAL;VALUE=DURATION:PT1H
X-Robots-Tag:noindex
X-PUBLISHED-TTL:PT1H
BEGIN:VTIMEZONE
TZID:Europe/Berlin
BEGIN:DAYLIGHT
TZOFFSETFROM:+0100
TZOFFSETTO:+0200
TZNAME:CEST
DTSTART:20220327T010000
END:DAYLIGHT
BEGIN:STANDARD
TZOFFSETFROM:+0200
TZOFFSETTO:+0100
TZNAME:CET
DTSTART:20221030T010000
END:STANDARD
BEGIN:DAYLIGHT
TZOFFSETFROM:+0100
TZOFFSETTO:+0200
TZNAME:CEST
DTSTART:20230326T010000
END:DAYLIGHT
BEGIN:STANDARD
TZOFFSETFROM:+0200
TZOFFSETTO:+0100
TZNAME:CET
DTSTART:20231029T010000
END:STANDARD
BEGIN:DAYLIGHT
TZOFFSETFROM:+0100
TZOFFSETTO:+0200
TZNAME:CEST
DTSTART:20240331T010000
END:DAYLIGHT
BEGIN:STANDARD
TZOFFSETFROM:+0200
TZOFFSETTO:+0100
TZNAME:CET
DTSTART:20241027T010000
END:STANDARD
END:VTIMEZONE
BEGIN:VEVENT
DTSTART;VALUE=DATE:20230110
DTEND;VALUE=DATE:20230111
DTSTAMP:20260423T140655
CREATED:20230110T200524Z
LAST-MODIFIED:20230110T200524Z
UID:3002-1673308800-1673395199@www.varianta.org
SUMMARY:Vier-Klassen-Wettfahrt
DESCRIPTION:Faktor 1\,20
URL:https://www.varianta.org/event/vier-klassen-wettfahrt/
LOCATION:Unterhavel
END:VEVENT
END:VCALENDAR