BEGIN:VCALENDAR
VERSION:2.0
PRODID:-//Varianta.org - ECPv6.15.20//NONSGML v1.0//EN
CALSCALE:GREGORIAN
METHOD:PUBLISH
X-WR-CALNAME:Varianta.org
X-ORIGINAL-URL:https://www.varianta.org
X-WR-CALDESC:Veranstaltungen für Varianta.org
REFRESH-INTERVAL;VALUE=DURATION:PT1H
X-Robots-Tag:noindex
X-PUBLISHED-TTL:PT1H
BEGIN:VTIMEZONE
TZID:Europe/Berlin
BEGIN:DAYLIGHT
TZOFFSETFROM:+0100
TZOFFSETTO:+0200
TZNAME:CEST
DTSTART:20210328T010000
END:DAYLIGHT
BEGIN:STANDARD
TZOFFSETFROM:+0200
TZOFFSETTO:+0100
TZNAME:CET
DTSTART:20211031T010000
END:STANDARD
BEGIN:DAYLIGHT
TZOFFSETFROM:+0100
TZOFFSETTO:+0200
TZNAME:CEST
DTSTART:20220327T010000
END:DAYLIGHT
BEGIN:STANDARD
TZOFFSETFROM:+0200
TZOFFSETTO:+0100
TZNAME:CET
DTSTART:20221030T010000
END:STANDARD
BEGIN:DAYLIGHT
TZOFFSETFROM:+0100
TZOFFSETTO:+0200
TZNAME:CEST
DTSTART:20230326T010000
END:DAYLIGHT
BEGIN:STANDARD
TZOFFSETFROM:+0200
TZOFFSETTO:+0100
TZNAME:CET
DTSTART:20231029T010000
END:STANDARD
END:VTIMEZONE
BEGIN:VEVENT
DTSTART;VALUE=DATE:20221001
DTEND;VALUE=DATE:20221003
DTSTAMP:20260423T191224
CREATED:20211222T104353Z
LAST-MODIFIED:20211222T104353Z
UID:2839-1664582400-1664755199@www.varianta.org
SUMMARY:Kehraus
DESCRIPTION:Faktor 1\,20
URL:https://www.varianta.org/event/kehraus/
LOCATION:Möhnesee/Wameler Becken-YCWM\, Forststraße 2\, Möhnesee\, Nordrhein-Westfalen\, 59520\, Deutschland
END:VEVENT
BEGIN:VEVENT
DTSTART;VALUE=DATE:20221015
DTEND;VALUE=DATE:20221017
DTSTAMP:20260423T191224
CREATED:20211222T104447Z
LAST-MODIFIED:20211222T104447Z
UID:2841-1665792000-1665964799@www.varianta.org
SUMMARY:Eisarsch
DESCRIPTION:Faktor 1\,20
URL:https://www.varianta.org/event/eisarsch/
LOCATION:Möhnesee/Wameler Becken-YCWM\, Forststraße 2\, Möhnesee\, Nordrhein-Westfalen\, 59520\, Deutschland
END:VEVENT
END:VCALENDAR