BEGIN:VCALENDAR
VERSION:2.0
PRODID:-//Varianta.org - ECPv6.15.20//NONSGML v1.0//EN
CALSCALE:GREGORIAN
METHOD:PUBLISH
X-WR-CALNAME:Varianta.org
X-ORIGINAL-URL:https://www.varianta.org
X-WR-CALDESC:Veranstaltungen für Varianta.org
REFRESH-INTERVAL;VALUE=DURATION:PT1H
X-Robots-Tag:noindex
X-PUBLISHED-TTL:PT1H
BEGIN:VTIMEZONE
TZID:Europe/Berlin
BEGIN:DAYLIGHT
TZOFFSETFROM:+0100
TZOFFSETTO:+0200
TZNAME:CEST
DTSTART:20210328T010000
END:DAYLIGHT
BEGIN:STANDARD
TZOFFSETFROM:+0200
TZOFFSETTO:+0100
TZNAME:CET
DTSTART:20211031T010000
END:STANDARD
BEGIN:DAYLIGHT
TZOFFSETFROM:+0100
TZOFFSETTO:+0200
TZNAME:CEST
DTSTART:20220327T010000
END:DAYLIGHT
BEGIN:STANDARD
TZOFFSETFROM:+0200
TZOFFSETTO:+0100
TZNAME:CET
DTSTART:20221030T010000
END:STANDARD
BEGIN:DAYLIGHT
TZOFFSETFROM:+0100
TZOFFSETTO:+0200
TZNAME:CEST
DTSTART:20230326T010000
END:DAYLIGHT
BEGIN:STANDARD
TZOFFSETFROM:+0200
TZOFFSETTO:+0100
TZNAME:CET
DTSTART:20231029T010000
END:STANDARD
END:VTIMEZONE
BEGIN:VEVENT
DTSTART;VALUE=DATE:20220604
DTEND;VALUE=DATE:20220607
DTSTAMP:20260424T021025
CREATED:20211222T102407Z
LAST-MODIFIED:20211222T102407Z
UID:2812-1654300800-1654559999@www.varianta.org
SUMMARY:Rheinwoche; anschl. Flottillentörn
DESCRIPTION:ohne Faktor
URL:https://www.varianta.org/event/rheinwoche-anschl-flottillentoern/
LOCATION:Rhein (Köln-Arnheim)
END:VEVENT
BEGIN:VEVENT
DTSTART;VALUE=DATE:20220613
DTEND;VALUE=DATE:20220619
DTSTAMP:20260424T021025
CREATED:20211222T102507Z
LAST-MODIFIED:20211222T102507Z
UID:2816-1655078400-1655596799@www.varianta.org
SUMMARY:Int. Deutsche Meisterschaft
DESCRIPTION:Faktor 1\,60
URL:https://www.varianta.org/event/int-deutsche-meisterschaft/
LOCATION:Forggensee-SCFF\, Postfach 1621\, Füssen\, Bayern\, 87622\, Deutschland
END:VEVENT
BEGIN:VEVENT
DTSTART;VALUE=DATE:20220625
DTEND;VALUE=DATE:20220627
DTSTAMP:20260424T021025
CREATED:20211222T102603Z
LAST-MODIFIED:20211222T102603Z
UID:2818-1656115200-1656287999@www.varianta.org
SUMMARY:Süllrandcup
DESCRIPTION:Faktor 1\,20
URL:https://www.varianta.org/event/suellrandcup/
LOCATION:Linkenheim Rohrköpflesee-SCLH\, Im Gründel 5\, Linkenheim-Hochstetten\, Baden-Württemberg\, 76351\, Deutschland
END:VEVENT
END:VCALENDAR