BEGIN:VCALENDAR
VERSION:2.0
PRODID:-//Varianta.org - ECPv6.15.20//NONSGML v1.0//EN
CALSCALE:GREGORIAN
METHOD:PUBLISH
X-ORIGINAL-URL:https://www.varianta.org
X-WR-CALDESC:Veranstaltungen für Varianta.org
REFRESH-INTERVAL;VALUE=DURATION:PT1H
X-Robots-Tag:noindex
X-PUBLISHED-TTL:PT1H
BEGIN:VTIMEZONE
TZID:Europe/Berlin
BEGIN:DAYLIGHT
TZOFFSETFROM:+0100
TZOFFSETTO:+0200
TZNAME:CEST
DTSTART:20210328T010000
END:DAYLIGHT
BEGIN:STANDARD
TZOFFSETFROM:+0200
TZOFFSETTO:+0100
TZNAME:CET
DTSTART:20211031T010000
END:STANDARD
BEGIN:DAYLIGHT
TZOFFSETFROM:+0100
TZOFFSETTO:+0200
TZNAME:CEST
DTSTART:20220327T010000
END:DAYLIGHT
BEGIN:STANDARD
TZOFFSETFROM:+0200
TZOFFSETTO:+0100
TZNAME:CET
DTSTART:20221030T010000
END:STANDARD
BEGIN:DAYLIGHT
TZOFFSETFROM:+0100
TZOFFSETTO:+0200
TZNAME:CEST
DTSTART:20230326T010000
END:DAYLIGHT
BEGIN:STANDARD
TZOFFSETFROM:+0200
TZOFFSETTO:+0100
TZNAME:CET
DTSTART:20231029T010000
END:STANDARD
END:VTIMEZONE
BEGIN:VEVENT
DTSTART;VALUE=DATE:20220507
DTEND;VALUE=DATE:20220509
DTSTAMP:20260424T042116
CREATED:20211222T101613Z
LAST-MODIFIED:20211222T101613Z
UID:2803-1651881600-1652054399@www.varianta.org
SUMMARY:Badische Landesmeisterschaft
DESCRIPTION:Faktor 1\,20
URL:https://www.varianta.org/event/badische-landesmeisterschaft-2/
LOCATION:Linkenheim Rohrköpflesee-SCLH\, Im Gründel 5\, Linkenheim-Hochstetten\, Baden-Württemberg\, 76351\, Deutschland
END:VEVENT
BEGIN:VEVENT
DTSTART;VALUE=DATE:20220514
DTEND;VALUE=DATE:20220516
DTSTAMP:20260424T042116
CREATED:20211222T101828Z
LAST-MODIFIED:20220510T180243Z
UID:2806-1652486400-1652659199@www.varianta.org
SUMMARY:Attacke -abgesagt-
DESCRIPTION:Faktor 1\,20 \n  \n 
URL:https://www.varianta.org/event/attacke/
LOCATION:Reffenthaler Altrhein-SVM\, Franz-Kirrmeier-Straße\, Speyer\, Rheinland-Pfalz\, 67346\, Deutschland
END:VEVENT
BEGIN:VEVENT
DTSTART;VALUE=DATE:20220521
DTEND;VALUE=DATE:20220523
DTSTAMP:20260424T042116
CREATED:20211222T101945Z
LAST-MODIFIED:20211222T101945Z
UID:2808-1653091200-1653263999@www.varianta.org
SUMMARY:Möhnepokal
DESCRIPTION:Faktor 1\,20
URL:https://www.varianta.org/event/moehnepokal-4/
LOCATION:Möhnesee/Wameler Becken-YCWM\, Forststraße 2\, Möhnesee\, Nordrhein-Westfalen\, 59520\, Deutschland
END:VEVENT
BEGIN:VEVENT
DTSTART;VALUE=DATE:20220528
DTEND;VALUE=DATE:20220530
DTSTAMP:20260424T042116
CREATED:20211222T102218Z
LAST-MODIFIED:20211222T102222Z
UID:2810-1653696000-1653868799@www.varianta.org
SUMMARY:Berlini Cup
DESCRIPTION:Faktor 1\,20
URL:https://www.varianta.org/event/berlini-cup-4/
LOCATION:Tegeler See-SCF\, Bernauer Str. 152a\, Berlin\, Berlin\, 13507\, Deutschland
END:VEVENT
END:VCALENDAR